BEGIN:VCALENDAR
VERSION:2.0
PRODID:-//pretix//pretix.eu//
BEGIN:VEVENT
UID:pretix-socreatory-foundation--online-1447806@pretix.eu
DTSTART;VALUE=DATE:20211004
DTEND;VALUE=DATE:20211008
DESCRIPTION:Tickets: https://pretix.eu/socreatory/foundation--online/144780
 6/\nVeranstalter: socreatory
DTSTAMP:20260424T155847Z
LOCATION:Online
SUMMARY:CPSA-Foundation (Online) - Johannes Seitz & Stefan Tilkov
END:VEVENT
END:VCALENDAR
