BEGIN:VCALENDAR
VERSION:2.0
PRODID:-//pretix//pretix.eu//
BEGIN:VEVENT
UID:pretix-socreatory-foundation--online-2316938@pretix.eu
DTSTART;VALUE=DATE:20220711
DTEND;VALUE=DATE:20220715
DESCRIPTION:Tickets: https://pretix.eu/socreatory/foundation--online/231693
 8/\nVeranstalter: socreatory
DTSTAMP:20260423T122632Z
LOCATION:Online
SUMMARY:CPSA-Foundation (Online) - Falk Sippach - Deutsch - Termingarantie!
END:VEVENT
END:VCALENDAR
