BEGIN:VCALENDAR
VERSION:2.0
PRODID:-//pretix//pretix.eu//
BEGIN:VEVENT
UID:pretix-socreatory-foundation--online-2722741@pretix.eu
DTSTART;VALUE=DATE:20220517
DTEND;VALUE=DATE:20220521
DESCRIPTION:Tickets: https://pretix.eu/socreatory/foundation--online/272274
 1/\nVeranstalter: socreatory
DTSTAMP:20260423T155925Z
LOCATION:Online
SUMMARY:CPSA-Foundation (Online) - Markus Harrer & Benjamin Wolf - Deutsch 
 - Termingarantie!
END:VEVENT
END:VCALENDAR
