BEGIN:VCALENDAR
VERSION:2.0
PRODID:-//pretix//pretix.eu//
BEGIN:VEVENT
UID:pretix-socreatory-foundation--online-2869983@pretix.eu
DTSTART;VALUE=DATE:20220222
DTEND;VALUE=DATE:20220226
DESCRIPTION:Tickets: https://pretix.eu/socreatory/foundation--online/286998
 3/\nVeranstalter: socreatory
DTSTAMP:20260424T101103Z
LOCATION:Online
SUMMARY:CPSA-Foundation (Online) - Gernot Starke & Michael Plöd - Deutsch
END:VEVENT
END:VCALENDAR
