BEGIN:VCALENDAR
VERSION:2.0
PRODID:-//pretix//pretix.eu//
BEGIN:VEVENT
UID:pretix-socreatory-foundation--online-3112507@pretix.eu
DTSTART;VALUE=DATE:20221010
DTEND;VALUE=DATE:20221021
DESCRIPTION:Tickets: https://pretix.eu/socreatory/foundation--online/311250
 7/\nVeranstalter: socreatory
DTSTAMP:20260422T230943Z
LOCATION:Online
SUMMARY:CPSA-Foundation (Online) Halbtags Training- Gerrit Beine - Englisch
  - Ausgebucht
END:VEVENT
END:VCALENDAR
