BEGIN:VCALENDAR
VERSION:2.0
PRODID:-//pretix//pretix.eu//
BEGIN:VEVENT
UID:pretix-socreatory-foundation--online-3494982@pretix.eu
DTSTART;VALUE=DATE:20230124
DTEND;VALUE=DATE:20230128
DESCRIPTION:Tickets: https://pretix.eu/socreatory/foundation--online/349498
 2/\nVeranstalter: socreatory
DTSTAMP:20260422T055414Z
LOCATION:Online
SUMMARY:CPSA-Foundation (Online) - Markus Harrer und Ben Wolf - Deutsch - A
 usgebucht
END:VEVENT
END:VCALENDAR
