BEGIN:VCALENDAR
VERSION:2.0
PRODID:-//pretix//pretix.eu//
BEGIN:VEVENT
UID:pretix-socreatory-foundation--online-3795432@pretix.eu
DTSTART;VALUE=DATE:20230829
DTEND;VALUE=DATE:20230902
DESCRIPTION:Tickets: https://pretix.eu/socreatory/foundation--online/379543
 2/\nVeranstalter: socreatory
DTSTAMP:20260421T031409Z
LOCATION:Online
SUMMARY:CPSA-Foundation (Online) - Falk Sippach - Deutsch - 1 Ticket verfü
 gbar
END:VEVENT
END:VCALENDAR
