BEGIN:VCALENDAR
VERSION:2.0
PRODID:-//pretix//pretix.eu//
BEGIN:VEVENT
UID:pretix-socreatory-foundation--online-3838357@pretix.eu
DTSTART;VALUE=DATE:20231114
DTEND;VALUE=DATE:20231118
DESCRIPTION:Tickets: https://pretix.eu/socreatory/foundation--online/383835
 7/\nVeranstalter: socreatory
DTSTAMP:20260420T093128Z
LOCATION:Online
SUMMARY:CPSA-Foundation (Online) - Sven Johann & Martin Weck - Englisch -  
 Termingarantie
END:VEVENT
END:VCALENDAR
