BEGIN:VCALENDAR
VERSION:2.0
PRODID:-//pretix//pretix.eu//
BEGIN:VEVENT
UID:pretix-socreatory-foundation--online-3894281@pretix.eu
DTSTART;VALUE=DATE:20231212
DTEND;VALUE=DATE:20231216
DESCRIPTION:Tickets: https://pretix.eu/socreatory/foundation--online/389428
 1/\nVeranstalter: socreatory
DTSTAMP:20260419T114319Z
LOCATION:Online
SUMMARY:CPSA-Foundation (Online) - Sven Johann - Deutsch - Ausgebucht
END:VEVENT
END:VCALENDAR
