BEGIN:VCALENDAR
VERSION:2.0
PRODID:-//pretix//pretix.eu//
BEGIN:VEVENT
UID:pretix-socreatory-foundation--online-3895532@pretix.eu
DTSTART;VALUE=DATE:20230912
DTEND;VALUE=DATE:20230916
DESCRIPTION:Tickets: https://pretix.eu/socreatory/foundation--online/389553
 2/\nVeranstalter: socreatory
DTSTAMP:20260421T050711Z
LOCATION:Online
SUMMARY:CPSA-Foundation (Online) - Markus Harrer - Deutsch - Ausgebucht
END:VEVENT
END:VCALENDAR
