BEGIN:VCALENDAR
VERSION:2.0
PRODID:-//pretix//pretix.eu//
BEGIN:VEVENT
UID:pretix-socreatory-foundation--online-3938821@pretix.eu
DTSTART;VALUE=DATE:20231218
DTEND;VALUE=DATE:20231222
DESCRIPTION:Tickets: https://pretix.eu/socreatory/foundation--online/393882
 1/\nVeranstalter: socreatory
DTSTAMP:20260419T224545Z
LOCATION:Online
SUMMARY:CPSA-Foundation (Online) - Markus Harrer - Deutsch - Ausgebucht
END:VEVENT
END:VCALENDAR
