BEGIN:VCALENDAR
VERSION:2.0
PRODID:-//pretix//pretix.eu//
BEGIN:VEVENT
UID:pretix-socreatory-foundation--online-4107772@pretix.eu
DTSTART;VALUE=DATE:20240617
DTEND;VALUE=DATE:20240621
DESCRIPTION:Tickets: https://pretix.eu/socreatory/foundation--online/410777
 2/\nVeranstalter: socreatory
DTSTAMP:20260419T165253Z
LOCATION:Online
SUMMARY:CPSA-Foundation (Online) - Felix Kammerlander - Deutsch - Ausgebuch
 t
END:VEVENT
END:VCALENDAR
