BEGIN:VCALENDAR
VERSION:2.0
PRODID:-//pretix//pretix.eu//
BEGIN:VEVENT
UID:pretix-socreatory-foundation--praesenz-3985731@pretix.eu
DTSTART;VALUE=DATE:20241007
DTEND;VALUE=DATE:20241011
DESCRIPTION:Tickets: https://pretix.eu/socreatory/foundation--praesenz/3985
 731/\nVeranstalter: socreatory
DTSTAMP:20260422T095154Z
LOCATION:NH Collection Berlin Mitte am Checkpoint Charlie\, Leipziger Str. 
 106-111\,10117 Berlin
SUMMARY:CPSA-Foundation (Berlin) - Sven Johann - Deutsch - 1 Ticker verfüg
 bar
END:VEVENT
END:VCALENDAR
