BEGIN:VCALENDAR
VERSION:2.0
PRODID:-//pretix//pretix.eu//
BEGIN:VEVENT
UID:pretix-socreatory-foundation--praesenz-3987964@pretix.eu
DTSTART;VALUE=DATE:20240819
DTEND;VALUE=DATE:20240823
DESCRIPTION:Tickets: https://pretix.eu/socreatory/foundation--praesenz/3987
 964/\nVeranstalter: socreatory
DTSTAMP:20260424T155836Z
LOCATION:KrämerLoft Coworking Space Erfurt\, Bahnhofstraße 15\, 99084 Erf
 urt
SUMMARY:CPSA-Foundation (Erfurt) - Falk Sippach - Deutsch - 3 Tickets verf
 ügbar
END:VEVENT
END:VCALENDAR
