BEGIN:VCALENDAR
VERSION:2.0
PRODID:-//pretix//pretix.eu//
BEGIN:VEVENT
UID:pretix-socreatory-foundation--praesenz-3997157@pretix.eu
DTSTART;VALUE=DATE:20240916
DTEND;VALUE=DATE:20240920
DESCRIPTION:Tickets: https://pretix.eu/socreatory/foundation--praesenz/3997
 157/\nVeranstalter: socreatory
DTSTAMP:20260423T034140Z
LOCATION:Best Western Plus Plaza Hotel Darmstadt\, Am Kavalleriesand 6\, 64
 295 Darmstadt
SUMMARY:CPSA-Foundation (Darmstadt) - Falk Sippach - Deutsch - Termingarant
 ie
END:VEVENT
END:VCALENDAR
