BEGIN:VCALENDAR
VERSION:2.0
PRODID:-//pretix//pretix.eu//
BEGIN:VEVENT
UID:pretix-socreatory-foundation--praesenz-4005470@pretix.eu
DTSTART;VALUE=DATE:20241216
DTEND;VALUE=DATE:20241220
DESCRIPTION:Tickets: https://pretix.eu/socreatory/foundation--praesenz/4005
 470/\nVeranstalter: socreatory
DTSTAMP:20260419T171240Z
LOCATION:NH Collection Nürnberg City\, Bahnhofstraße 17-19\, 90402 Nürnb
 erg
SUMMARY:CPSA-Foundation (Nürnberg) - Markus Harrer und Ben Wolf - Deutsch
END:VEVENT
END:VCALENDAR
