BEGIN:VCALENDAR
VERSION:2.0
PRODID:-//pretix//pretix.eu//
BEGIN:VEVENT
UID:pretix-socreatory-foundation--praesenz-4067440@pretix.eu
DTSTART;VALUE=DATE:20241119
DTEND;VALUE=DATE:20241123
DESCRIPTION:Tickets: https://pretix.eu/socreatory/foundation--praesenz/4067
 440/\nVeranstalter: socreatory
DTSTAMP:20260420T203249Z
LOCATION:Dorint Hotel am Heumarkt\, Pipinstr. 1\, 50667 Köln
SUMMARY:CPSA-Foundation (Köln) - Michael Plöd und Gernot Starke - Deutsch
  - 1 Ticket verfügbar
END:VEVENT
END:VCALENDAR
