BEGIN:VCALENDAR
VERSION:2.0
PRODID:-//pretix//pretix.eu//
BEGIN:VEVENT
UID:pretix-socreatory-foundation--praesenz-4191631@pretix.eu
DTSTART;VALUE=DATE:20250121
DTEND;VALUE=DATE:20250125
DESCRIPTION:Tickets: https://pretix.eu/socreatory/foundation--praesenz/4191
 631/\nVeranstalter: socreatory
DTSTAMP:20260419T133443Z
LOCATION:Therme Erding\, Thermenallee 1a\, 85435 Erding
SUMMARY:CPSA-Foundation (Therme Erding) - Alexander Kaserbacher - Deutsch -
  Termingarantie
END:VEVENT
END:VCALENDAR
