BEGIN:VCALENDAR
VERSION:2.0
PRODID:-//pretix//pretix.eu//
BEGIN:VEVENT
UID:pretix-socreatory-foundation--praesenz-4695239@pretix.eu
DTSTART;VALUE=DATE:20260427
DTEND;VALUE=DATE:20260501
DESCRIPTION:Tickets: https://pretix.eu/socreatory/foundation--praesenz/4695
 239/\nVeranstalter: socreatory
DTSTAMP:20260421T082807Z
LOCATION:Adina Hotel Berlin Checkpoint Charlie\, Leipziger Str. 124\, 10117
  Berlin
SUMMARY:CPSA-Foundation (Berlin) - Gerrit Beine - Deutsch - Ausgebucht
END:VEVENT
END:VCALENDAR
