BEGIN:VCALENDAR
VERSION:2.0
PRODID:-//pretix//pretix.eu//
BEGIN:VEVENT
UID:pretix-socreatory-improve--online-2511931@pretix.eu
DTSTART;VALUE=DATE:20220321
DTEND;VALUE=DATE:20220324
DESCRIPTION:Tickets: https://pretix.eu/socreatory/improve--online/2511931/\
 nVeranstalter: socreatory
DTSTAMP:20260420T082238Z
LOCATION:Online
SUMMARY:IMPROVE (Online) - Markus Harrer - Englisch
END:VEVENT
END:VCALENDAR
