BEGIN:VCALENDAR
VERSION:2.0
PRODID:-//pretix//pretix.eu//
BEGIN:VEVENT
UID:pretix-socreatory-improve--praesenz-3843818@pretix.eu
DTSTART;VALUE=DATE:20230718
DTEND;VALUE=DATE:20230721
DESCRIPTION:Tickets: https://pretix.eu/socreatory/improve--praesenz/3843818
 /\nVeranstalter: socreatory
DTSTAMP:20260421T171429Z
LOCATION:Design Offices Nürnberg Hauptbahnhof\, Bahnhofstraße 2\, 90402 N
 ürnberg
SUMMARY:IMPROVE (Nürnberg) - Markus Harrer - Deutsch - Ausgebucht
END:VEVENT
END:VCALENDAR
