BEGIN:VCALENDAR
VERSION:2.0
PRODID:-//pretix//pretix.eu//
BEGIN:VEVENT
UID:pretix-socreatory-improve--praesenz-3883316@pretix.eu
DTSTART;VALUE=DATE:20231121
DTEND;VALUE=DATE:20231124
DESCRIPTION:Tickets: https://pretix.eu/socreatory/improve--praesenz/3883316
 /\nVeranstalter: socreatory
DTSTAMP:20260421T092429Z
LOCATION:Therme Erding\, Thermenallee 1-5\, 85435 Erding
SUMMARY:IMPROVE (Therme Erding) - Sven Johann - Deutsch - Ausgebucht
END:VEVENT
END:VCALENDAR
