BEGIN:VCALENDAR
VERSION:2.0
PRODID:-//pretix//pretix.eu//
BEGIN:VEVENT
UID:pretix-socreatory-improve--praesenz-3951637@pretix.eu
DTSTART;VALUE=DATE:20240625
DTEND;VALUE=DATE:20240628
DESCRIPTION:Tickets: https://pretix.eu/socreatory/improve--praesenz/3951637
 /\nVeranstalter: socreatory
DTSTAMP:20260419T150137Z
LOCATION:Design Offices Nürnberg City\, Königstorgraben 11\, 90402 Nürnb
 erg
SUMMARY:IMPROVE (Nürnberg) - Markus Harrer - Deutsch - 2 Tickets verfügbar
END:VEVENT
END:VCALENDAR
