BEGIN:VCALENDAR
VERSION:2.0
PRODID:-//pretix//pretix.eu//
BEGIN:VEVENT
UID:pretix-socreatory-improve--praesenz-3999836@pretix.eu
DTSTART;VALUE=DATE:20240227
DTEND;VALUE=DATE:20240301
DESCRIPTION:Tickets: https://pretix.eu/socreatory/improve--praesenz/3999836
 /\nVeranstalter: socreatory
DTSTAMP:20260420T081032Z
LOCATION:Kultion Factory\, Westendstraße 123\, 80339 München
SUMMARY:IMPROVE (München) - Markus Harrer - Deutsch - Termingarantie
END:VEVENT
END:VCALENDAR
