BEGIN:VCALENDAR
VERSION:2.0
PRODID:-//pretix//pretix.eu//
BEGIN:VEVENT
UID:pretix-socreatory-keycloak--online-4149396@pretix.eu
DTSTART;VALUE=DATE:20241127
DTEND;VALUE=DATE:20241129
DESCRIPTION:Tickets: https://pretix.eu/socreatory/keycloak--online/4149396/
 \nVeranstalter: socreatory
DTSTAMP:20260420T095445Z
SUMMARY:Keycloak IAM & SSO (Online) - Termingarantie
END:VEVENT
END:VCALENDAR
