BEGIN:VCALENDAR
VERSION:2.0
PRODID:-//pretix//pretix.eu//
BEGIN:VEVENT
UID:pretix-socreatory-keycloak--praesenz-4066907@pretix.eu
DTSTART;VALUE=DATE:20240917
DTEND;VALUE=DATE:20240919
DESCRIPTION:Tickets: https://pretix.eu/socreatory/keycloak--praesenz/406690
 7/\nVeranstalter: socreatory
DTSTAMP:20260423T081625Z
LOCATION:Greet Hotel Darmstadt\, Hilpertstraße 27\, 64295 Darmstadt
SUMMARY:Keycloak IAM & SSO (Darmstadt) - Niko Köbler - Deutsch - Termingar
 antie
END:VEVENT
END:VCALENDAR
