BEGIN:VCALENDAR
VERSION:2.0
PRODID:-//pretix//pretix.eu//
BEGIN:VEVENT
UID:pretix-socreatory-keycloak-master--online-4924324@pretix.eu
DTSTART;VALUE=DATE:20261124
DTEND;VALUE=DATE:20261127
DESCRIPTION:Tickets: https://pretix.eu/socreatory/keycloak-master--online/4
 924324/\nVeranstalter: socreatory
DTSTAMP:20260425T005357Z
SUMMARY:Keycloak IAM & SSO Masterclass (online) - Niko Köbler - Deutsch
END:VEVENT
END:VCALENDAR
