BEGIN:VCALENDAR
VERSION:2.0
PRODID:-//pretix//pretix.eu//
BEGIN:VEVENT
UID:pretix-socreatory-soft--online-4107763@pretix.eu
DTSTART;VALUE=DATE:20241126
DTEND;VALUE=DATE:20241129
DESCRIPTION:Tickets: https://pretix.eu/socreatory/soft--online/4107763/\nVe
 ranstalter: socreatory
DTSTAMP:20260420T092657Z
SUMMARY:SOFT (Online) - Kim Nena Duggen - Deutsch - Ausgebucht
END:VEVENT
END:VCALENDAR
