BEGIN:VCALENDAR
VERSION:2.0
PRODID:-//pretix//pretix.eu//
BEGIN:VEVENT
UID:pretix-socreatory-soft--praesenz-3382622@pretix.eu
DTSTART;VALUE=DATE:20231010
DTEND;VALUE=DATE:20231013
DESCRIPTION:Tickets: https://pretix.eu/socreatory/soft--praesenz/3382622/\n
 Veranstalter: socreatory
DTSTAMP:20260420T092926Z
LOCATION:Maritim Hotel München\, Goethestraße 7\, 80336 München
SUMMARY:SOFT (München) - Kim Nena Duggen - Deutsch - 1 Ticket verfügbar
END:VEVENT
END:VCALENDAR
