BEGIN:VCALENDAR
VERSION:2.0
PRODID:-//pretix//pretix.eu//
BEGIN:VEVENT
UID:pretix-socreatory-soft--praesenz-4695237@pretix.eu
DTSTART;VALUE=DATE:20260414
DTEND;VALUE=DATE:20260417
DESCRIPTION:Tickets: https://pretix.eu/socreatory/soft--praesenz/4695237/\n
 Veranstalter: socreatory
DTSTAMP:20260425T105626Z
LOCATION:Adina Hotel Berlin Checkpoint Charlie\, Krausenstraße 35-36\, 101
 17 Berlin
SUMMARY:SOFT (Berlin) - Kim Nena Duggen - Deutsch - 1 Ticket verfügbar
END:VEVENT
END:VCALENDAR
