BEGIN:VCALENDAR
VERSION:2.0
PRODID:-//pretix//pretix.eu//
BEGIN:VEVENT
UID:pretix-socreatory-web--online-2539085@pretix.eu
DTSTART;VALUE=DATE:20220316
DTEND;VALUE=DATE:20220319
DESCRIPTION:Tickets: https://pretix.eu/socreatory/web--online/2539085/\nVer
 anstalter: socreatory
DTSTAMP:20260425T190753Z
LOCATION:Online
SUMMARY:WEB (Online) - Lucas Dohmen\, Till Schulte-Coerne - Deutsch
END:VEVENT
END:VCALENDAR
