BEGIN:VCALENDAR
VERSION:2.0
PRODID:-//pretix//pretix.eu//
BEGIN:VEVENT
UID:pretix-socreatory-web--online-2539086@pretix.eu
DTSTART;VALUE=DATE:20220919
DTEND;VALUE=DATE:20220922
DESCRIPTION:Tickets: https://pretix.eu/socreatory/web--online/2539086/\nVer
 anstalter: socreatory
DTSTAMP:20260424T234138Z
LOCATION:Online
SUMMARY:WEB (Online) - Lucas Dohmen\, Till Schulte-Coerne - Deutsch
END:VEVENT
END:VCALENDAR
