BEGIN:VCALENDAR
VERSION:2.0
PRODID:-//pretix//pretix.eu//
BEGIN:VEVENT
UID:pretix-socreatory-web--online-3670332@pretix.eu
DTSTART;VALUE=DATE:20230418
DTEND;VALUE=DATE:20230421
DESCRIPTION:Tickets: https://pretix.eu/socreatory/web--online/3670332/\nVer
 anstalter: socreatory
DTSTAMP:20260423T022536Z
LOCATION:Online
SUMMARY:WEB (Online) - Till Schulte-Coerne - Deutsch - Termingarantie
END:VEVENT
END:VCALENDAR
