BEGIN:VCALENDAR
VERSION:2.0
PRODID:-//pretix//pretix.eu//
BEGIN:VEVENT
UID:pretix-socreatory-web--online-3834665@pretix.eu
DTSTART;VALUE=DATE:20230912
DTEND;VALUE=DATE:20230915
DESCRIPTION:Tickets: https://pretix.eu/socreatory/web--online/3834665/\nVer
 anstalter: socreatory
DTSTAMP:20260422T103151Z
LOCATION:Online
SUMMARY:WEB (Online) - Till Schulte-Coerne\, Stefan Bodewig - Deutsch - 1 T
 icket verfügbar
END:VEVENT
END:VCALENDAR
