BEGIN:VCALENDAR
VERSION:2.0
PRODID:-//pretix//pretix.eu//
BEGIN:VEVENT
UID:pretix-socreatory-web--online-3869250@pretix.eu
DTSTART;VALUE=DATE:20231121
DTEND;VALUE=DATE:20231124
DESCRIPTION:Tickets: https://pretix.eu/socreatory/web--online/3869250/\nVer
 anstalter: socreatory
DTSTAMP:20260421T220117Z
LOCATION:Online
SUMMARY:WEB (Online) - Till Schulte-Coerne - Deutsch - Ausgebucht
END:VEVENT
END:VCALENDAR
