BEGIN:VCALENDAR
VERSION:2.0
PRODID:-//pretix//pretix.eu//
BEGIN:VEVENT
UID:pretix-socreatory-web--online-3934903@pretix.eu
DTSTART;VALUE=DATE:20240422
DTEND;VALUE=DATE:20240425
DESCRIPTION:Tickets: https://pretix.eu/socreatory/web--online/3934903/\nVer
 anstalter: socreatory
DTSTAMP:20260421T035904Z
LOCATION:Online
SUMMARY:WEB (Online) - Till Schulte-Coerne\, Stefan Bodewig - Deutsch - 3 T
 ickets verfügbar
END:VEVENT
END:VCALENDAR
