BEGIN:VCALENDAR
VERSION:2.0
PRODID:-//pretix//pretix.eu//
BEGIN:VEVENT
UID:pretix-socreatory-web--online-3997098@pretix.eu
DTSTART;VALUE=DATE:20240916
DTEND;VALUE=DATE:20240919
DESCRIPTION:Tickets: https://pretix.eu/socreatory/web--online/3997098/\nVer
 anstalter: socreatory
DTSTAMP:20260420T013706Z
LOCATION:Online
SUMMARY:WEB (Online) - Till Schulte-Coerne\, Stefan Bodewig - Deutsch - 1 T
 icket verfügbar
END:VEVENT
END:VCALENDAR
