BEGIN:VCALENDAR
VERSION:2.0
PRODID:-//pretix//pretix.eu//
BEGIN:VEVENT
UID:pretix-socreatory-web-security--online-2338330@pretix.eu
DTSTART;VALUE=DATE:20210628
DTEND;VALUE=DATE:20210701
DESCRIPTION:Tickets: https://pretix.eu/socreatory/web-security--online/2338
 330/\nVeranstalter: socreatory
DTSTAMP:20260425T182050Z
LOCATION:Online
SUMMARY:WEBSEC (Online) - Simon Kölsch
END:VEVENT
END:VCALENDAR
