BEGIN:VCALENDAR
VERSION:2.0
PRODID:-//pretix//pretix.eu//
BEGIN:VEVENT
UID:pretix-socreatory-web-security--online-2338332@pretix.eu
DTSTART;VALUE=DATE:20210914
DTEND;VALUE=DATE:20210917
DESCRIPTION:Tickets: https://pretix.eu/socreatory/web-security--online/2338
 332/\nVeranstalter: socreatory
DTSTAMP:20260425T150801Z
LOCATION:Online
SUMMARY:WEBSEC (Online) - Christoph Iserlohn & Dimitrij Drus
END:VEVENT
END:VCALENDAR
