BEGIN:VCALENDAR
VERSION:2.0
PRODID:-//pretix//pretix.eu//
BEGIN:VEVENT
UID:pretix-socreatory-web-security--online-2371645@pretix.eu
DTSTART;VALUE=DATE:20211208
DTEND;VALUE=DATE:20211211
DESCRIPTION:Tickets: https://pretix.eu/socreatory/web-security--online/2371
 645/\nVeranstalter: socreatory
DTSTAMP:20260424T174048Z
LOCATION:Online
SUMMARY:WEBSEC (Online) - Christoph Iserlohn & Dimitrij Drus
END:VEVENT
END:VCALENDAR
