BEGIN:VCALENDAR
VERSION:2.0
PRODID:-//pretix//pretix.eu//
BEGIN:VEVENT
UID:pretix-socreatory-web-security--online-2539087@pretix.eu
DTSTART;VALUE=DATE:20220315
DTEND;VALUE=DATE:20220318
DESCRIPTION:Tickets: https://pretix.eu/socreatory/web-security--online/2539
 087/\nVeranstalter: socreatory
DTSTAMP:20260423T233321Z
LOCATION:Online
SUMMARY:WEBSEC (Online) - Dimitrij Drus & Christoph Iserlohn - Deutsch
END:VEVENT
END:VCALENDAR
