BEGIN:VCALENDAR
VERSION:2.0
PRODID:-//pretix//pretix.eu//
BEGIN:VEVENT
UID:pretix-socreatory-web-security--online-2539088@pretix.eu
DTSTART;VALUE=DATE:20220516
DTEND;VALUE=DATE:20220519
DESCRIPTION:Tickets: https://pretix.eu/socreatory/web-security--online/2539
 088/\nVeranstalter: socreatory
DTSTAMP:20260423T233323Z
LOCATION:Online
SUMMARY:WEBSEC (Online) - Dimitrij Drus & Christoph Iserlohn - Deutsch
END:VEVENT
END:VCALENDAR
