BEGIN:VCALENDAR
VERSION:2.0
PRODID:-//pretix//pretix.eu//
BEGIN:VEVENT
UID:pretix-socreatory-web-security--online-2539089@pretix.eu
DTSTART;VALUE=DATE:20220926
DTEND;VALUE=DATE:20220929
DESCRIPTION:Tickets: https://pretix.eu/socreatory/web-security--online/2539
 089/\nVeranstalter: socreatory
DTSTAMP:20260422T225418Z
LOCATION:Online
SUMMARY:WEBSEC (Online) - Dimitrij Drus - Deutsch - AUSGEBUCHT!
END:VEVENT
END:VCALENDAR
