BEGIN:VCALENDAR
VERSION:2.0
PRODID:-//pretix//pretix.eu//
BEGIN:VEVENT
UID:pretix-socreatory-web-security--online-3295747@pretix.eu
DTSTART;VALUE=DATE:20221123
DTEND;VALUE=DATE:20221126
DESCRIPTION:Tickets: https://pretix.eu/socreatory/web-security--online/3295
 747/\nVeranstalter: socreatory
DTSTAMP:20260422T171247Z
LOCATION:Online
SUMMARY:WEBSEC (Online) - Dimitrij Drus - Deutsch - 1 Ticket verfügbar
END:VEVENT
END:VCALENDAR
