BEGIN:VCALENDAR
VERSION:2.0
PRODID:-//pretix//pretix.eu//
BEGIN:VEVENT
UID:pretix-socreatory-web-security--online-3494984@pretix.eu
DTSTART;VALUE=DATE:20230215
DTEND;VALUE=DATE:20230218
DESCRIPTION:Tickets: https://pretix.eu/socreatory/web-security--online/3494
 984/\nVeranstalter: socreatory
DTSTAMP:20260422T135209Z
LOCATION:Online
SUMMARY:WEBSEC (Online) - Dimitrij Drus - Deutsch - Termingarantie
END:VEVENT
END:VCALENDAR
