BEGIN:VCALENDAR
VERSION:2.0
PRODID:-//pretix//pretix.eu//
BEGIN:VEVENT
UID:pretix-socreatory-web-security--online-3494999@pretix.eu
DTSTART;VALUE=DATE:20230531
DTEND;VALUE=DATE:20230603
DESCRIPTION:Tickets: https://pretix.eu/socreatory/web-security--online/3494
 999/\nVeranstalter: socreatory
DTSTAMP:20260421T113248Z
LOCATION:Online
SUMMARY:WEBSEC (Online) - Dimitrij Drus - Deutsch - 1 Ticket verfügbar
END:VEVENT
END:VCALENDAR
