BEGIN:VCALENDAR
VERSION:2.0
PRODID:-//pretix//pretix.eu//
BEGIN:VEVENT
UID:pretix-socreatory-web-security--online-3592439@pretix.eu
DTSTART;VALUE=DATE:20230110
DTEND;VALUE=DATE:20230113
DESCRIPTION:Tickets: https://pretix.eu/socreatory/web-security--online/3592
 439/\nVeranstalter: socreatory
DTSTAMP:20260422T112437Z
LOCATION:Online
SUMMARY:WEBSEC (Online) - Dimitrij Drus - Deutsch - Termingarantie
END:VEVENT
END:VCALENDAR
