BEGIN:VCALENDAR
VERSION:2.0
PRODID:-//pretix//pretix.eu//
BEGIN:VEVENT
UID:pretix-socreatory-web-security--online-3834666@pretix.eu
DTSTART;VALUE=DATE:20230816
DTEND;VALUE=DATE:20230819
DESCRIPTION:Tickets: https://pretix.eu/socreatory/web-security--online/3834
 666/\nVeranstalter: socreatory
DTSTAMP:20260421T091807Z
LOCATION:Online
SUMMARY:WEBSEC (Online) - Dimitrij Drus - Deutsch - Termingarantie
END:VEVENT
END:VCALENDAR
