BEGIN:VCALENDAR
VERSION:2.0
PRODID:-//pretix//pretix.eu//
BEGIN:VEVENT
UID:pretix-socreatory-web-security--online-3934895@pretix.eu
DTSTART;VALUE=DATE:20240123
DTEND;VALUE=DATE:20240126
DESCRIPTION:Tickets: https://pretix.eu/socreatory/web-security--online/3934
 895/\nVeranstalter: socreatory
DTSTAMP:20260420T090006Z
LOCATION:Online
SUMMARY:WEBSEC (Online) - Christoph Iserlohn - Deutsch - Ausgebucht
END:VEVENT
END:VCALENDAR
