BEGIN:VCALENDAR
VERSION:2.0
PRODID:-//pretix//pretix.eu//
BEGIN:VEVENT
UID:pretix-socreatory-web-security--online-3934900@pretix.eu
DTSTART;VALUE=DATE:20240312
DTEND;VALUE=DATE:20240315
DESCRIPTION:Tickets: https://pretix.eu/socreatory/web-security--online/3934
 900/\nVeranstalter: socreatory
DTSTAMP:20260419T192335Z
LOCATION:Online
SUMMARY:WEBSEC (Online) - Dimitrij Drus - Deutsch - Termingarantie
END:VEVENT
END:VCALENDAR
